BEGIN:VCALENDAR
VERSION:2.0
PRODID:-//Country Women&#039;s Association of Western Australia - ECPv5.0.2.1//NONSGML v1.0//EN
CALSCALE:GREGORIAN
METHOD:PUBLISH
X-WR-CALNAME:Country Women&#039;s Association of Western Australia
X-ORIGINAL-URL:http://www.cwaofwa.asn.au
X-WR-CALDESC:Events for Country Women&#039;s Association of Western Australia
BEGIN:VTIMEZONE
TZID:Australia/Perth
BEGIN:STANDARD
TZOFFSETFROM:+0800
TZOFFSETTO:+0800
TZNAME:AWST
DTSTART:20200101T000000
END:STANDARD
END:VTIMEZONE
BEGIN:VEVENT
DTSTART;VALUE=DATE:20200308
DTEND;VALUE=DATE:20200309
DTSTAMP:20200302T032504
CREATED:20200120T022829Z
LAST-MODIFIED:20200120T022829Z
UID:5641-1583625600-1583711999@www.cwaofwa.asn.au
SUMMARY:International Women's Day
DESCRIPTION:
URL:http://www.cwaofwa.asn.au/event/international-womens-day-2/
END:VEVENT
END:VCALENDAR