BEGIN:VCALENDAR
VERSION:2.0
PRODID:-//Country Women&#039;s Association of Western Australia - ECPv5.0.2.1//NONSGML v1.0//EN
CALSCALE:GREGORIAN
METHOD:PUBLISH
X-WR-CALNAME:Country Women&#039;s Association of Western Australia
X-ORIGINAL-URL:http://www.cwaofwa.asn.au
X-WR-CALDESC:Events for Country Women&#039;s Association of Western Australia
BEGIN:VTIMEZONE
TZID:Australia/Perth
BEGIN:STANDARD
TZOFFSETFROM:+0800
TZOFFSETTO:+0800
TZNAME:AWST
DTSTART:20200101T000000
END:STANDARD
END:VTIMEZONE
BEGIN:VEVENT
DTSTART;VALUE=DATE:20200331
DTEND;VALUE=DATE:20200401
DTSTAMP:20200302T032633
CREATED:20200120T022958Z
LAST-MODIFIED:20200120T022958Z
UID:5643-1585612800-1585699199@www.cwaofwa.asn.au
SUMMARY:Nomination and Expressions of Interest for Board/Committees Due
DESCRIPTION:
URL:http://www.cwaofwa.asn.au/event/nomination-and-expressions-of-interest-for-board-committees-due/
END:VEVENT
END:VCALENDAR