BEGIN:VCALENDAR
VERSION:2.0
PRODID:-//Country Women&#039;s Association of Western Australia - ECPv5.0.2.1//NONSGML v1.0//EN
CALSCALE:GREGORIAN
METHOD:PUBLISH
X-WR-CALNAME:Country Women&#039;s Association of Western Australia
X-ORIGINAL-URL:http://www.cwaofwa.asn.au
X-WR-CALDESC:Events for Country Women&#039;s Association of Western Australia
BEGIN:VTIMEZONE
TZID:Australia/Perth
BEGIN:STANDARD
TZOFFSETFROM:+0800
TZOFFSETTO:+0800
TZNAME:AWST
DTSTART:20200101T000000
END:STANDARD
END:VTIMEZONE
BEGIN:VEVENT
DTSTART;VALUE=DATE:20200205
DTEND;VALUE=DATE:20200207
DTSTAMP:20200302T031747
CREATED:20200120T022717Z
LAST-MODIFIED:20200120T022717Z
UID:5639-1580860800-1581033599@www.cwaofwa.asn.au
SUMMARY:CWA of WA Board Meeting
DESCRIPTION:
URL:http://www.cwaofwa.asn.au/event/cwa-of-wa-board-meeting/
END:VEVENT
END:VCALENDAR